BEGIN:VCALENDAR
VERSION:2.0
PRODID:-//The Portsea Camp - ECPv6.15.11//NONSGML v1.0//EN
CALSCALE:GREGORIAN
METHOD:PUBLISH
X-ORIGINAL-URL:https://staging.theportseacamp.com.au
X-WR-CALDESC:Events for The Portsea Camp
REFRESH-INTERVAL;VALUE=DURATION:PT1H
X-Robots-Tag:noindex
X-PUBLISHED-TTL:PT1H
BEGIN:VTIMEZONE
TZID:Australia/Melbourne
BEGIN:STANDARD
TZOFFSETFROM:+1100
TZOFFSETTO:+1000
TZNAME:AEST
DTSTART:20240406T160000
END:STANDARD
BEGIN:DAYLIGHT
TZOFFSETFROM:+1000
TZOFFSETTO:+1100
TZNAME:AEDT
DTSTART:20241005T160000
END:DAYLIGHT
BEGIN:STANDARD
TZOFFSETFROM:+1100
TZOFFSETTO:+1000
TZNAME:AEST
DTSTART:20250405T160000
END:STANDARD
BEGIN:DAYLIGHT
TZOFFSETFROM:+1000
TZOFFSETTO:+1100
TZNAME:AEDT
DTSTART:20251004T160000
END:DAYLIGHT
BEGIN:STANDARD
TZOFFSETFROM:+1100
TZOFFSETTO:+1000
TZNAME:AEST
DTSTART:20260404T160000
END:STANDARD
BEGIN:DAYLIGHT
TZOFFSETFROM:+1000
TZOFFSETTO:+1100
TZNAME:AEDT
DTSTART:20261003T160000
END:DAYLIGHT
END:VTIMEZONE
BEGIN:VEVENT
DTSTART;VALUE=DATE:20251109
DTEND;VALUE=DATE:20251110
DTSTAMP:20260423T044153
CREATED:20250408T014612Z
LAST-MODIFIED:20250414T213745Z
UID:5429-1762646400-1762732799@staging.theportseacamp.com.au
SUMMARY:STRIDE or RIDE 2025
DESCRIPTION:[vc_row][vc_column][vc_column_text uncode_shortcode_id=”211662″] \nThis event will be returning in November 2025\, so stay tuned for more information\nThe STRIDE or RIDE Charity Event is a Sorrento Bay Riders initiative partnered with The Portsea Camp. \nEvery step or pedal you take\, raises valuable funds to support children across the State of Victoria attend The Portsea Camp Making a Difference Camps\, Vibes or Journey Wellness Programs\, helping children to be happy\, healthy and well. With one remarkable purpose The Portsea Camp is dedicated to making a profound difference in the lives of disadvantaged and vulnerable children. Together\, we’re paving the way for brighter futures\, building a supportive\, resilient community that stands up for those who need it most. .[/vc_column_text][/vc_column][/vc_row]
URL:https://staging.theportseacamp.com.au/event/stride-or-ride-2025/
LOCATION:The Portsea Camp\, 3704 Point Nepean Rd\, Portsea\, VIC\, 3944
CATEGORIES:Community,Events,Fundraising
ATTACH;FMTTYPE=image/jpeg:https://staging.theportseacamp.com.au/wp-content/uploads/2025/02/IMG_3274-scaled.jpg
END:VEVENT
BEGIN:VEVENT
DTSTART;VALUE=DATE:20251128
DTEND;VALUE=DATE:20251129
DTSTAMP:20260423T044153
CREATED:20250408T014455Z
LAST-MODIFIED:20250506T013613Z
UID:5441-1764288000-1764374399@staging.theportseacamp.com.au
SUMMARY:Portsea Golf Day
DESCRIPTION:[vc_row][vc_column][vc_column_text uncode_shortcode_id=”175906″] \nThis event will be returning in November 2025\, so stay tuned for more information\nTee Off for a Great Cause \nWe’re thrilled to announce that the Portsea Charity Golf Day will be returning in November 2025 – stay tuned for more details! \nHosted at the picturesque Portsea Golf Club\, this exclusive event combines a day of premium golf and meaningful connection\, all in support of The Portsea Camp and its purpose to transform the lives of vulnerable and at-risk children. \nProudly hosted by Paul Little\, the Founder of The Little Group\, this is a exclusive hosted event. We welcome expressions of interest from those who wish to bring a team and help raise vital funds for The Portsea Camp. \nAll expressions of interest will be forwarded to The Little Group for consideration. \nTo date\, this incredible day has raised over $100\,000 directly supporting disadvantaged children by giving them the opportunity to experience the magic of camp. \nAll proceeds go directly to The Portsea Camp\, helping us continue the life-changing work we do for children across Victoria. \nStay tuned for more updates – and if you’d like to express interest in participating\, please reach out via our contact form. \n[/vc_column_text][/vc_column][/vc_row][vc_row][vc_column width=”1/1″][vc_gallery el_id=”gallery-394874″ type=”carousel” medias=”3134\,4815″ carousel_lg=”1″ carousel_md=”1″ carousel_sm=”1″ gutter_size=”3″ carousel_interval=”3000″ carousel_navspeed=”400″ stage_padding=”0″ single_overlay_opacity=”50″ single_padding=”2″ uncode_shortcode_id=”100499″][/vc_column][/vc_row]
URL:https://staging.theportseacamp.com.au/event/portsea-golf-day/
LOCATION:Portsea Golf Club\, 46 London Bridge Rd\, Portsea\, Victoria\, 3944\, Australia
CATEGORIES:Community,Events,Fundraising
ATTACH;FMTTYPE=image/jpeg:https://staging.theportseacamp.com.au/wp-content/uploads/2025/02/IMG_0939.jpg
END:VEVENT
END:VCALENDAR