BEGIN:VCALENDAR
VERSION:2.0
PRODID:-//The Portsea Camp - ECPv6.15.11//NONSGML v1.0//EN
CALSCALE:GREGORIAN
METHOD:PUBLISH
X-WR-CALNAME:The Portsea Camp
X-ORIGINAL-URL:https://staging.theportseacamp.com.au
X-WR-CALDESC:Events for The Portsea Camp
REFRESH-INTERVAL;VALUE=DURATION:PT1H
X-Robots-Tag:noindex
X-PUBLISHED-TTL:PT1H
BEGIN:VTIMEZONE
TZID:Australia/Melbourne
BEGIN:STANDARD
TZOFFSETFROM:+1100
TZOFFSETTO:+1000
TZNAME:AEST
DTSTART:20230401T160000
END:STANDARD
BEGIN:DAYLIGHT
TZOFFSETFROM:+1000
TZOFFSETTO:+1100
TZNAME:AEDT
DTSTART:20230930T160000
END:DAYLIGHT
BEGIN:STANDARD
TZOFFSETFROM:+1100
TZOFFSETTO:+1000
TZNAME:AEST
DTSTART:20240406T160000
END:STANDARD
BEGIN:DAYLIGHT
TZOFFSETFROM:+1000
TZOFFSETTO:+1100
TZNAME:AEDT
DTSTART:20241005T160000
END:DAYLIGHT
BEGIN:STANDARD
TZOFFSETFROM:+1100
TZOFFSETTO:+1000
TZNAME:AEST
DTSTART:20250405T160000
END:STANDARD
BEGIN:DAYLIGHT
TZOFFSETFROM:+1000
TZOFFSETTO:+1100
TZNAME:AEDT
DTSTART:20251004T160000
END:DAYLIGHT
END:VTIMEZONE
BEGIN:VEVENT
DTSTART;TZID=Australia/Melbourne:20240913T170000
DTEND;TZID=Australia/Melbourne:20240915T113000
DTSTAMP:20260423T075029
CREATED:20240614T064527Z
LAST-MODIFIED:20240909T044536Z
UID:2304-1726246800-1726399800@staging.theportseacamp.com.au
SUMMARY:Junior Creative Writer's Camp with Andrea Rowe
DESCRIPTION:Unlock Your Imagination: Join Our Junior Creative Writing Camp for Storytelling Enthusiasts!\nThe Place to be for Kids who Enjoy Reading\, Writing\, Storytelling\, and Creative Expression.\n\nFriday 13th September 5-6pm Parent/Carer Drop Off\nSunday 15th September 11:30am Parent/Carer Pick Up and Story Showcase \n\n\nTicket Options\n\n2 Nights for $400\n1 Night for $200\n1 Day for $120\n\nGet In Quick ONLY 50 Places Available! \nEnhance writing skills\, explore self-expression\, and thrive in a supportive\, inspiring environment.\nPlease note: that this pricing is for drop off only. The Portsea Camp is unable to provide transport. \nWhat Can I Expect at Creative Writers Camp\n\nLearn various writing styles\, techniques\, and structures\nLead by the award-winning children’s author Andrea Rowe\nCreate compelling characters\, plots\, and settings\nUse writing as a tool for self-expression and communication\nCreate lasting memories\nWork with peers to share ideas\, give feedback\, and collaborate on projects\nEngage in writing games\, prompts\, and creative exercises\nNew friendships\nImprove communication skills\, problem-solving abilities\, and perseverance through writing challenges\n\nAges\nAges 8-12 (year level 3-6) \nPayment\nAll payments are processed securely using Stripe as the payment processor.
URL:https://staging.theportseacamp.com.au/event/junior-creative-writers-camp/
LOCATION:The Portsea Camp\, 3704 Point Nepean Rd\, Portsea\, VIC\, 3944
CATEGORIES:Holiday & Weekend Camps
ATTACH;FMTTYPE=image/jpeg:https://staging.theportseacamp.com.au/wp-content/uploads/2024/06/Creative-writing-camp-pic.jpg
END:VEVENT
BEGIN:VEVENT
DTSTART;VALUE=DATE:20240831
DTEND;VALUE=DATE:20240902
DTSTAMP:20260423T075029
CREATED:20240607T112441Z
LAST-MODIFIED:20240723T045301Z
UID:2173-1725062400-1725235199@staging.theportseacamp.com.au
SUMMARY:Join the Movement: "Camp Out for the Kids" Fundraiser!
DESCRIPTION:[vc_row][vc_column][vc_column_text uncode_shortcode_id=”559876″] \nPay it forward: Grown Ups Rally to Ensure Every Child Experiences the Magic of Camp\nThe Portsea Camp is thrilled to launch the first-ever “Camp Out for the Kids” fundraiser\, where senior business\, education\, and community leaders will camp out to raise vital funds. \nThis unique event aims to ensure that no child misses out on the transformative experience of camp due to economic or other disadvantages. \nBy coming together and spending a night under the stars\, participants will help provide subsidized or free camp opportunities for children in need\, promoting physical and mental well-being through outdoor activities and meaningful connections. \nJoin us in making a difference—register to camp out or sponsor our CEO to camp out today![/vc_column_text][vc_single_image media=”2364″ media_width_percent=”100″ uncode_shortcode_id=”121954″][/vc_column][/vc_row]
URL:https://staging.theportseacamp.com.au/event/join-the-movement-camp-out-for-the-kids-fundraiser/
LOCATION:The Portsea Camp\, 3704 Point Nepean Rd\, Portsea\, VIC\, 3944
CATEGORIES:Events,Fundraising
ATTACH;FMTTYPE=image/jpeg:https://staging.theportseacamp.com.au/wp-content/uploads/2024/06/Untitled-design-2.jpg
END:VEVENT
BEGIN:VEVENT
DTSTART;TZID=Australia/Melbourne:20240817T100000
DTEND;TZID=Australia/Melbourne:20240817T160000
DTSTAMP:20260423T075029
CREATED:20240614T062010Z
LAST-MODIFIED:20240806T041330Z
UID:2297-1723888800-1723910400@staging.theportseacamp.com.au
SUMMARY:Build A Billy Cart Day
DESCRIPTION:Build Your Own Billy Cart Day: Igniting Creativity\, Fostering Teamwork\, and Inspiring Hands-On Learning through Problem Solving and Fun!\nA day for kids who are curious\, enjoy hands-on activities\, and are developing their teamwork and problem-solving skills.\n\nSaturday 17th August 10am Parent/Carer Drop Off\nSaturday 17th August 4pm Parent/Carer Pick Up \n\n\nTicket Options\n\n1 Day for $80\n\nGet In Quick ONLY 50 Places Available! \nRide into the day with your imagination and curiosity ready to build your own speed machine.\nPlease note: that this pricing is for drop off only. The Portsea Camp is unable to provide transport. \nWhat Can I Expect at Build Your Own Billy Cart Day\n\n\n\nEnjoy the thrill of getting hands-on with tools and materials\nLearn to solve challenges and design your own unique cart in a group\nUse teamwork to build a safe cart\nEnjoy spending the day outdoors\nLearn the importance of safety when using tools and materials\nFeel proud of your accomplishment\nCreate lasting memories\nNew friendships\nCompete in your first Billy Cart race\n\n\n\nAges\nAges 8-12 (year level 3-6) \nPayment\nAll payments are processed securely using Stripe as the payment processor.
URL:https://staging.theportseacamp.com.au/event/build-a-billy-cart-day/
LOCATION:The Portsea Camp\, 3704 Point Nepean Rd\, Portsea\, VIC\, 3944
CATEGORIES:Holiday & Weekend Camps
ATTACH;FMTTYPE=image/jpeg:https://staging.theportseacamp.com.au/wp-content/uploads/2024/06/Billy-Cart-Day-Pic-2.jpg
END:VEVENT
BEGIN:VEVENT
DTSTART;TZID=Australia/Melbourne:20240809T170000
DTEND;TZID=Australia/Melbourne:20240811T103000
DTSTAMP:20260423T075029
CREATED:20240614T055106Z
LAST-MODIFIED:20240717T022438Z
UID:2291-1723222800-1723372200@staging.theportseacamp.com.au
SUMMARY:Culinary Kids Weekend Camp
DESCRIPTION:Cooking Up Winter Fun: Culinary Kids Program Where You Will Develop Skills\, Foster Mindfulness\, Encourage Creativity\, and Build Healthy Relationships with Food!\nIdeal for Kids That Have an Interest in Cooking\, Food\, and Nutrition.\n\nFriday 9th August 5-6pm Parent/Carer Drop Off\nSunday 11th August 10:30am Parent/Carer Pick Up and Taste Testing \n\n\nTicket Options\n\n2 Nights for $400\n1 Night for $200\n1 Day for $120\n\nGet In Quick ONLY 50 Places Available! \nEmbark on a delicious adventure of Fun\, Food and New Skills.\nPlease note: that this pricing is for drop off only. The Portsea Camp is unable to provide transport. \nWhat Can I Expect at Culinary Kids Camp\n\n\n\nLearn to cook multiple dishes over 2 days\nPractice life skills\nLearn about healthy eating habits\nOutdoor adventures\nExpress yourself onto a plate\nConfidence with basic cooking utensils\nSkills to take home and cook for the family\nNew friendships\nCooking competitions\n\n\n\nAges\nAges 8-12 (year level 3-6) \nPayment\nAll payments are processed securely using Stripe as the payment processor.
URL:https://staging.theportseacamp.com.au/event/culinary-kids-winter-weekend-camp/
LOCATION:The Portsea Camp\, 3704 Point Nepean Rd\, Portsea\, VIC\, 3944
CATEGORIES:Holiday & Weekend Camps
ATTACH;FMTTYPE=image/jpeg:https://staging.theportseacamp.com.au/wp-content/uploads/2024/06/Culinary-Kids-Pic.jpg
END:VEVENT
BEGIN:VEVENT
DTSTART;TZID=Australia/Melbourne:20240802T170000
DTEND;TZID=Australia/Melbourne:20240804T110000
DTSTAMP:20260423T075029
CREATED:20240614T023948Z
LAST-MODIFIED:20240728T233914Z
UID:2284-1722618000-1722769200@staging.theportseacamp.com.au
SUMMARY:Create Your Own Stop-Motion Animation Movie Weekend Camp
DESCRIPTION:Unleash Your Creativity: Weekend Camp for Kids to Create Stop-Motion Animation Movies\, Blending Storytelling\, Art\, Technology\, and Outdoor Fun!\nIdeal for Kids That Have a Strong Interest in Storytelling\, Art\, Filmmaking\, Animation\, or Technology.\nPlease note: Participants will need to bring their own surface/iPad. \n\nFriday 2nd August 5-6pm Parent/Carer Drop Off\nSunday 4th August 11am Parent/Carer Pick Up and Movie Premiere \n\n\nTicket Options\n\n2 Nights for $400\n1 Night for $200\n1 Day for $120\n\nGet In Quick ONLY 50 Places Available! \nStep Out of the Ordinary and Dive into the Exciting World of Stop-Motion Animation this Winter!\nPlease note: that this pricing is for drop off only. The Portsea Camp is unable to provide transport. \nWhat Can I Expect at Animation Camp\n\n\n\nMaster the basics of stop-motion animation\nDevelop storytelling abilities through visual mediums\nCollaboration with other participants\nOutdoor adventures\nArtistic expression\nConfidence with technology\nSkills to be creators of the future\nNew friendships\nGaining self-assurance in expressing ideas through animation\n\n\n\nAges\nAges 8-12 (year level 3-6) \nPayment\nAll payments are processed securely using Stripe as the payment processor.
URL:https://staging.theportseacamp.com.au/event/create-your-own-stop-motion-animation-movie-weekend-camp/
LOCATION:The Portsea Camp\, 3704 Point Nepean Rd\, Portsea\, VIC\, 3944
CATEGORIES:Holiday & Weekend Camps
ATTACH;FMTTYPE=image/jpeg:https://staging.theportseacamp.com.au/wp-content/uploads/2024/06/Stop-Motion-with-Kids-scaled.jpg
END:VEVENT
BEGIN:VEVENT
DTSTART;TZID=Australia/Melbourne:20240725T163000
DTEND;TZID=Australia/Melbourne:20240725T171500
DTSTAMP:20260423T075029
CREATED:20240702T013739Z
LAST-MODIFIED:20240717T024744Z
UID:2442-1721925000-1721927700@staging.theportseacamp.com.au
SUMMARY:AUSBIKE - LEARN HOW TO RIDE
DESCRIPTION:AUSBIKE IS GETTING KIDS BACK ON THEIR BIKES!\nWHAT IS AUSBIKE YOU ASK?\nA new national program\, designed by Australia’s peak cycling body\, AusCycling\, is running at The Portsea Camp. AusBike gives kids the essential skills to experience the freedom\, fun and adventure of life on a bike. AusBikers are safe & active kids! Our accredited coaches will help build your child’s competence and conﬁdence on two wheels…and who knows where their love of riding will take them?! \nThe Portsea Camp is proud to be the only accredited AusBike Centre on the Mornington Peninsula!\nTicket Options: Whole Program Cost $160\nGet In Quick ONLY 10 Places Available!\nPlease note: that this pricing is for drop off only. The Portsea Camp is unable to provide transport. \nAges: Ages 5-12 (year levels prep-6)\nAn 8-week program running during Term 3 with one session a week.\n\n1st Session: Thursday 25th July at 4:30pm at The Portsea Camp \n2nd Session: Thursday 1st August at 4:30pm at The Portsea Camp \n3rd Session: Thursday 8th August at 4:30pm at The Portsea Camp \n4th Session: Thursday 15th August at 4:30pm at The Portsea Camp \n5th Session: Thursday 22nd August at 4:30pm at The Portsea Camp \n6th Session: Thursday 29th August at 4:30pm at The Portsea Camp \n7th Session: Thursday 5th September at 4:30pm at The Portsea Camp \n8th Session: Thursday 12th September at 4:30pm at The Portsea Camp \n\n\nLEARN TO RIDE SAFE AND RIDE SMART!\nFOLLOW THE LINK BELOW TO SECURE YOUR SPOT NOW.\n\n\nhttps://raceroster.com/events/2024/87593/the-portsea-camp\n\n\n 
URL:https://staging.theportseacamp.com.au/event/ausbike-learn-how-to-ride/
LOCATION:The Portsea Camp\, 3704 Point Nepean Rd\, Portsea\, VIC\, 3944
CATEGORIES:Events,Holiday & Weekend Camps
ATTACH;FMTTYPE=image/jpeg:https://staging.theportseacamp.com.au/wp-content/uploads/2024/07/Month2_Week1_Post3-1.jpg
END:VEVENT
BEGIN:VEVENT
DTSTART;TZID=Australia/Melbourne:20240719T170000
DTEND;TZID=Australia/Melbourne:20240721T110000
DTSTAMP:20260423T075029
CREATED:20240614T015033Z
LAST-MODIFIED:20240717T023649Z
UID:2254-1721408400-1721559600@staging.theportseacamp.com.au
SUMMARY:Learn How To Code Weekend Camp
DESCRIPTION:[vc_row][vc_column width=”1/1″][vc_column_text uncode_shortcode_id=”131239″] \nEmpower Your Kids: Weekend Coding Camp Combining Tech Skills\, Problem Solving\, Digital Storytelling\, and Outdoor Adventure!\nSuitable For Those New to Coding\, and Those Who Want to Expand Their Knowledge.\nPlease note: Participants will need to bring their own surface/iPad. \n\nFriday 19th July 5-6pm Parent/Carer Drop Off\nSunday 21st July 11am Parent/Carer Pick Up \n\n\nTicket Options\n\n1 Night for $200\n1 Day for $120\n\nGet In Quick ONLY 50 Places Available! \nBreak Up Those Long Winter Weekends Indoors. Give The Gift Of Creativity and Adventure This Winter.\nPlease note: that this pricing is for drop off only. The Portsea Camp is unable to provide transport. \n\n[/vc_column_text][uncode_list icon=”fa fa-check2″ uncode_shortcode_id=”232738″] \nWhat Can I Expect at Code Camp\n\nBuild a platformer game\nCollaboration with other participants\nProfessional teachers\nOutdoor adventures\nProblem-Solving skills\nConfidence with technology\nSkills to be creators of the future\nNew friendships\nLogin credentials for the coding platform we use to continue coding at home\n\n[/uncode_list][vc_column_text uncode_shortcode_id=”213099″] \nAges\nAges 8-12 (year level 3-6) \nPayment\nAll payments are processed securely using Stripe as the payment processor.[/vc_column_text][/vc_column][/vc_row]
URL:https://staging.theportseacamp.com.au/event/learn-how-to-code-weekend-camp/
LOCATION:The Portsea Camp\, 3704 Point Nepean Rd\, Portsea\, VIC\, 3944
CATEGORIES:Holiday & Weekend Camps
ATTACH;FMTTYPE=image/webp:https://staging.theportseacamp.com.au/wp-content/uploads/2024/06/Kids-Coding.webp
END:VEVENT
BEGIN:VEVENT
DTSTART;VALUE=DATE:20240701
DTEND;VALUE=DATE:20240706
DTSTAMP:20260423T075029
CREATED:20240303T231050Z
LAST-MODIFIED:20240628T045313Z
UID:130-1719792000-1720223999@staging.theportseacamp.com.au
SUMMARY:Winter Holiday Camp
DESCRIPTION:5 days of fun and adventure! $650 – Includes all food\, activities and a stunning location to stay.\n\nMonday 1st July 12 pm Parent/Carer Drop Off\nFriday 5th July 11-12 pm Parent/Carer Pick Up \n\n\nTicket Options\n\n1 day for $150\n3 days for $400\n5 days for $650\n\nPlease note: that this pricing is for drop off only. The Portsea Camp is unable to provide transport. \nActivities\nThere are plenty of activities to do including the giant swing\, flying fox\, high ropes\, nature walks\, arts and crafts\, disco\, concert…. and so many more! \nAges\nAges 8-12 (year level 3-6) \nPayment\nAll payments are processed securely using Stripe as the payment processor.
URL:https://staging.theportseacamp.com.au/event/winter-holiday-camp/
LOCATION:The Portsea Camp\, 3704 Point Nepean Rd\, Portsea\, VIC\, 3944
CATEGORIES:Holiday & Weekend Camps
ATTACH;FMTTYPE=image/jpeg:https://staging.theportseacamp.com.au/wp-content/uploads/2024/06/372162740_9975198669219423_4252347726957719466_n.jpg
END:VEVENT
BEGIN:VEVENT
DTSTART;TZID=Australia/Melbourne:20240609T120000
DTEND;TZID=Australia/Melbourne:20240609T130000
DTSTAMP:20260423T075029
CREATED:20240608T034754Z
LAST-MODIFIED:20240608T035253Z
UID:2196-1717934400-1717938000@staging.theportseacamp.com.au
SUMMARY:Annual General Meeting
DESCRIPTION:[vc_row][vc_column][vc_column_text uncode_shortcode_id=”103199″]The Portsea Camp Board invites you to join us in the Nautilus Centre for our Annual General Meeting for the 2023/24 year. Meet the Board\, hear about out work and our impact and join us for light resfreshments[/vc_column_text][/vc_column][/vc_row]
URL:https://staging.theportseacamp.com.au/event/annual-general-meeting/
LOCATION:The Portsea Camp\, 3704 Point Nepean Rd\, Portsea\, VIC\, 3944
CATEGORIES:Community,Events
ATTACH;FMTTYPE=image/jpeg:https://staging.theportseacamp.com.au/wp-content/uploads/2024/06/447264774_853537496816284_80255997905840819_n.jpg
END:VEVENT
BEGIN:VEVENT
DTSTART;TZID=Australia/Melbourne:20240526T113000
DTEND;TZID=Australia/Melbourne:20240526T160000
DTSTAMP:20260423T075029
CREATED:20240318T233248Z
LAST-MODIFIED:20240603T041433Z
UID:880-1716723000-1716739200@staging.theportseacamp.com.au
SUMMARY:The Portsea Camp Master Chef’s Luncheon 2024
DESCRIPTION:[vc_row][vc_column width=”1/1″][vc_column_text uncode_shortcode_id=”562434″] \n\nThe Foodie Event of the year is back for 2024 at The Portsea Camp\n\n\nThis year we are delighted to be joined by 2023 Top 5 MasterChef contestant\, Cath Collins for a chat\, bubbles\, beer & her delish bruschetta as seen on Instagram @ cathskitchen_au \nStunning succulent dishes created by The Continental Sorrento’s Executive Chef\, Julian Robert Shaw\, The Portsea Hotel\, Itali.co Sorrento\, Sardo Private\, Mubble and more of your Moorish Sorrento favourites\, including wines from our beautiful Mornington Peninsula. \nWelcome glass of Sorrento Moon & Portsea Sun on deck with boutique producer of sparkling and fine wines\, Rahona Valley. \nHosted by ‘Special Guest’ Marty Fields\, recent winner of the ‘Mo Awards’ and inductee into the Australian Comedy Hall of fame. \nEarly Bird tickets on sale now\, save $300 per table. Limited time only. \n\n[/vc_column_text][/vc_column][/vc_row]
URL:https://staging.theportseacamp.com.au/event/master-chefs-luncheon-2024/
LOCATION:The Portsea Camp\, 3704 Point Nepean Rd\, Portsea\, VIC\, 3944
CATEGORIES:Events,Fundraising
ATTACH;FMTTYPE=image/jpeg:https://staging.theportseacamp.com.au/wp-content/uploads/2024/04/MASTERCHEF-2024.jpg
END:VEVENT
BEGIN:VEVENT
DTSTART;TZID=Australia/Melbourne:20240322T120000
DTEND;TZID=Australia/Melbourne:20240322T160000
DTSTAMP:20260423T075030
CREATED:20240327T033625Z
LAST-MODIFIED:20240603T054929Z
UID:522-1711108800-1711123200@staging.theportseacamp.com.au
SUMMARY:Vibes Women’s Luncheon 2024
DESCRIPTION:EMBRACE – EMPOWER – LEAD \n\nJoin us and make a difference in the lives of 100 girls during Women’s Health Week at the Portsea Camp. \nThe ‘Vibes’ women’s luncheon is a fundraising event born out of the ‘Vibes Well Being Program’.  A leadership journey designed to embrace and empower our young women of tomorrow. \nHear from inspiring guest speakers and facilitators of the Happy Vibes 2023 program. \nEnjoy a 3-course luncheon with a welcome drink on arrival at the stunning\, Sorrento Sailing Couta Boat Club. * Additional drinks at restaurant prices.  \nProudly sponsored by 3MP\, Hammill & CO\, Mentor Me Women\, The Sorrento Writer’s Festival\, The Sorrento Sailing Couta Boat Club and The Portsea Camp 
URL:https://staging.theportseacamp.com.au/event/vibes-womens-luncheon-2024/
LOCATION:Sorrento Sailing Coutra Boat Club\, 3154 Point Nepean Rd\, Sorrento\, VIC\, 3943\, Australia
CATEGORIES:Events,Fundraising
ATTACH;FMTTYPE=image/jpeg:https://staging.theportseacamp.com.au/wp-content/uploads/2024/06/colleencallander-wrkshop-001-scaled.jpg
END:VEVENT
END:VCALENDAR