BEGIN:VCALENDAR
VERSION:2.0
PRODID:-//The Portsea Camp - ECPv6.15.11//NONSGML v1.0//EN
CALSCALE:GREGORIAN
METHOD:PUBLISH
X-WR-CALNAME:The Portsea Camp
X-ORIGINAL-URL:https://staging.theportseacamp.com.au
X-WR-CALDESC:Events for The Portsea Camp
REFRESH-INTERVAL;VALUE=DURATION:PT1H
X-Robots-Tag:noindex
X-PUBLISHED-TTL:PT1H
BEGIN:VTIMEZONE
TZID:Australia/Melbourne
BEGIN:STANDARD
TZOFFSETFROM:+1100
TZOFFSETTO:+1000
TZNAME:AEST
DTSTART:20230401T160000
END:STANDARD
BEGIN:DAYLIGHT
TZOFFSETFROM:+1000
TZOFFSETTO:+1100
TZNAME:AEDT
DTSTART:20230930T160000
END:DAYLIGHT
BEGIN:STANDARD
TZOFFSETFROM:+1100
TZOFFSETTO:+1000
TZNAME:AEST
DTSTART:20240406T160000
END:STANDARD
BEGIN:DAYLIGHT
TZOFFSETFROM:+1000
TZOFFSETTO:+1100
TZNAME:AEDT
DTSTART:20241005T160000
END:DAYLIGHT
BEGIN:STANDARD
TZOFFSETFROM:+1100
TZOFFSETTO:+1000
TZNAME:AEST
DTSTART:20250405T160000
END:STANDARD
BEGIN:DAYLIGHT
TZOFFSETFROM:+1000
TZOFFSETTO:+1100
TZNAME:AEDT
DTSTART:20251004T160000
END:DAYLIGHT
END:VTIMEZONE
BEGIN:VEVENT
DTSTART;TZID=Australia/Melbourne:20240719T170000
DTEND;TZID=Australia/Melbourne:20240721T110000
DTSTAMP:20260423T200900
CREATED:20240614T015033Z
LAST-MODIFIED:20240717T023649Z
UID:2254-1721408400-1721559600@staging.theportseacamp.com.au
SUMMARY:Learn How To Code Weekend Camp
DESCRIPTION:[vc_row][vc_column width=”1/1″][vc_column_text uncode_shortcode_id=”131239″] \nEmpower Your Kids: Weekend Coding Camp Combining Tech Skills\, Problem Solving\, Digital Storytelling\, and Outdoor Adventure!\nSuitable For Those New to Coding\, and Those Who Want to Expand Their Knowledge.\nPlease note: Participants will need to bring their own surface/iPad. \n\nFriday 19th July 5-6pm Parent/Carer Drop Off\nSunday 21st July 11am Parent/Carer Pick Up \n\n\nTicket Options\n\n1 Night for $200\n1 Day for $120\n\nGet In Quick ONLY 50 Places Available! \nBreak Up Those Long Winter Weekends Indoors. Give The Gift Of Creativity and Adventure This Winter.\nPlease note: that this pricing is for drop off only. The Portsea Camp is unable to provide transport. \n\n[/vc_column_text][uncode_list icon=”fa fa-check2″ uncode_shortcode_id=”232738″] \nWhat Can I Expect at Code Camp\n\nBuild a platformer game\nCollaboration with other participants\nProfessional teachers\nOutdoor adventures\nProblem-Solving skills\nConfidence with technology\nSkills to be creators of the future\nNew friendships\nLogin credentials for the coding platform we use to continue coding at home\n\n[/uncode_list][vc_column_text uncode_shortcode_id=”213099″] \nAges\nAges 8-12 (year level 3-6) \nPayment\nAll payments are processed securely using Stripe as the payment processor.[/vc_column_text][/vc_column][/vc_row]
URL:https://staging.theportseacamp.com.au/event/learn-how-to-code-weekend-camp/
LOCATION:The Portsea Camp\, 3704 Point Nepean Rd\, Portsea\, VIC\, 3944
CATEGORIES:Holiday & Weekend Camps
ATTACH;FMTTYPE=image/webp:https://staging.theportseacamp.com.au/wp-content/uploads/2024/06/Kids-Coding.webp
END:VEVENT
BEGIN:VEVENT
DTSTART;VALUE=DATE:20240701
DTEND;VALUE=DATE:20240706
DTSTAMP:20260423T200900
CREATED:20240303T231050Z
LAST-MODIFIED:20240628T045313Z
UID:130-1719792000-1720223999@staging.theportseacamp.com.au
SUMMARY:Winter Holiday Camp
DESCRIPTION:5 days of fun and adventure! $650 – Includes all food\, activities and a stunning location to stay.\n\nMonday 1st July 12 pm Parent/Carer Drop Off\nFriday 5th July 11-12 pm Parent/Carer Pick Up \n\n\nTicket Options\n\n1 day for $150\n3 days for $400\n5 days for $650\n\nPlease note: that this pricing is for drop off only. The Portsea Camp is unable to provide transport. \nActivities\nThere are plenty of activities to do including the giant swing\, flying fox\, high ropes\, nature walks\, arts and crafts\, disco\, concert…. and so many more! \nAges\nAges 8-12 (year level 3-6) \nPayment\nAll payments are processed securely using Stripe as the payment processor.
URL:https://staging.theportseacamp.com.au/event/winter-holiday-camp/
LOCATION:The Portsea Camp\, 3704 Point Nepean Rd\, Portsea\, VIC\, 3944
CATEGORIES:Holiday & Weekend Camps
ATTACH;FMTTYPE=image/jpeg:https://staging.theportseacamp.com.au/wp-content/uploads/2024/06/372162740_9975198669219423_4252347726957719466_n.jpg
END:VEVENT
BEGIN:VEVENT
DTSTART;TZID=Australia/Melbourne:20240609T120000
DTEND;TZID=Australia/Melbourne:20240609T130000
DTSTAMP:20260423T200900
CREATED:20240608T034754Z
LAST-MODIFIED:20240608T035253Z
UID:2196-1717934400-1717938000@staging.theportseacamp.com.au
SUMMARY:Annual General Meeting
DESCRIPTION:[vc_row][vc_column][vc_column_text uncode_shortcode_id=”103199″]The Portsea Camp Board invites you to join us in the Nautilus Centre for our Annual General Meeting for the 2023/24 year. Meet the Board\, hear about out work and our impact and join us for light resfreshments[/vc_column_text][/vc_column][/vc_row]
URL:https://staging.theportseacamp.com.au/event/annual-general-meeting/
LOCATION:The Portsea Camp\, 3704 Point Nepean Rd\, Portsea\, VIC\, 3944
CATEGORIES:Community,Events
ATTACH;FMTTYPE=image/jpeg:https://staging.theportseacamp.com.au/wp-content/uploads/2024/06/447264774_853537496816284_80255997905840819_n.jpg
END:VEVENT
BEGIN:VEVENT
DTSTART;TZID=Australia/Melbourne:20240526T113000
DTEND;TZID=Australia/Melbourne:20240526T160000
DTSTAMP:20260423T200900
CREATED:20240318T233248Z
LAST-MODIFIED:20240603T041433Z
UID:880-1716723000-1716739200@staging.theportseacamp.com.au
SUMMARY:The Portsea Camp Master Chef’s Luncheon 2024
DESCRIPTION:[vc_row][vc_column width=”1/1″][vc_column_text uncode_shortcode_id=”562434″] \n\nThe Foodie Event of the year is back for 2024 at The Portsea Camp\n\n\nThis year we are delighted to be joined by 2023 Top 5 MasterChef contestant\, Cath Collins for a chat\, bubbles\, beer & her delish bruschetta as seen on Instagram @ cathskitchen_au \nStunning succulent dishes created by The Continental Sorrento’s Executive Chef\, Julian Robert Shaw\, The Portsea Hotel\, Itali.co Sorrento\, Sardo Private\, Mubble and more of your Moorish Sorrento favourites\, including wines from our beautiful Mornington Peninsula. \nWelcome glass of Sorrento Moon & Portsea Sun on deck with boutique producer of sparkling and fine wines\, Rahona Valley. \nHosted by ‘Special Guest’ Marty Fields\, recent winner of the ‘Mo Awards’ and inductee into the Australian Comedy Hall of fame. \nEarly Bird tickets on sale now\, save $300 per table. Limited time only. \n\n[/vc_column_text][/vc_column][/vc_row]
URL:https://staging.theportseacamp.com.au/event/master-chefs-luncheon-2024/
LOCATION:The Portsea Camp\, 3704 Point Nepean Rd\, Portsea\, VIC\, 3944
CATEGORIES:Events,Fundraising
ATTACH;FMTTYPE=image/jpeg:https://staging.theportseacamp.com.au/wp-content/uploads/2024/04/MASTERCHEF-2024.jpg
END:VEVENT
BEGIN:VEVENT
DTSTART;TZID=Australia/Melbourne:20240322T120000
DTEND;TZID=Australia/Melbourne:20240322T160000
DTSTAMP:20260423T200900
CREATED:20240327T033625Z
LAST-MODIFIED:20240603T054929Z
UID:522-1711108800-1711123200@staging.theportseacamp.com.au
SUMMARY:Vibes Women’s Luncheon 2024
DESCRIPTION:EMBRACE – EMPOWER – LEAD \n\nJoin us and make a difference in the lives of 100 girls during Women’s Health Week at the Portsea Camp. \nThe ‘Vibes’ women’s luncheon is a fundraising event born out of the ‘Vibes Well Being Program’.  A leadership journey designed to embrace and empower our young women of tomorrow. \nHear from inspiring guest speakers and facilitators of the Happy Vibes 2023 program. \nEnjoy a 3-course luncheon with a welcome drink on arrival at the stunning\, Sorrento Sailing Couta Boat Club. * Additional drinks at restaurant prices.  \nProudly sponsored by 3MP\, Hammill & CO\, Mentor Me Women\, The Sorrento Writer’s Festival\, The Sorrento Sailing Couta Boat Club and The Portsea Camp 
URL:https://staging.theportseacamp.com.au/event/vibes-womens-luncheon-2024/
LOCATION:Sorrento Sailing Coutra Boat Club\, 3154 Point Nepean Rd\, Sorrento\, VIC\, 3943\, Australia
CATEGORIES:Events,Fundraising
ATTACH;FMTTYPE=image/jpeg:https://staging.theportseacamp.com.au/wp-content/uploads/2024/06/colleencallander-wrkshop-001-scaled.jpg
END:VEVENT
END:VCALENDAR