BEGIN:VCALENDAR
VERSION:2.0
PRODID:-//The Portsea Camp - ECPv6.15.11//NONSGML v1.0//EN
CALSCALE:GREGORIAN
METHOD:PUBLISH
X-ORIGINAL-URL:https://staging.theportseacamp.com.au
X-WR-CALDESC:Events for The Portsea Camp
REFRESH-INTERVAL;VALUE=DURATION:PT1H
X-Robots-Tag:noindex
X-PUBLISHED-TTL:PT1H
BEGIN:VTIMEZONE
TZID:Australia/Melbourne
BEGIN:STANDARD
TZOFFSETFROM:+1100
TZOFFSETTO:+1000
TZNAME:AEST
DTSTART:20250405T160000
END:STANDARD
BEGIN:DAYLIGHT
TZOFFSETFROM:+1000
TZOFFSETTO:+1100
TZNAME:AEDT
DTSTART:20251004T160000
END:DAYLIGHT
BEGIN:STANDARD
TZOFFSETFROM:+1100
TZOFFSETTO:+1000
TZNAME:AEST
DTSTART:20260404T160000
END:STANDARD
BEGIN:DAYLIGHT
TZOFFSETFROM:+1000
TZOFFSETTO:+1100
TZNAME:AEDT
DTSTART:20261003T160000
END:DAYLIGHT
BEGIN:STANDARD
TZOFFSETFROM:+1100
TZOFFSETTO:+1000
TZNAME:AEST
DTSTART:20270403T160000
END:STANDARD
BEGIN:DAYLIGHT
TZOFFSETFROM:+1000
TZOFFSETTO:+1100
TZNAME:AEDT
DTSTART:20271002T160000
END:DAYLIGHT
END:VTIMEZONE
BEGIN:VEVENT
DTSTART;TZID=Australia/Melbourne:20260407T100000
DTEND;TZID=Australia/Melbourne:20260410T130000
DTSTAMP:20260422T171551
CREATED:20250805T033214Z
LAST-MODIFIED:20250812T002656Z
UID:6409-1775556000-1775826000@staging.theportseacamp.com.au
SUMMARY:MidWeek Volunteer Training and Induction
DESCRIPTION:Portsea Camp Volunteer Training & Induction Weekend\nJoin us for an action-packed Volunteer Training & Induction Weekend at The Portsea Camp\, where you’ll gain essential skills\, build connections\, and prepare for a rewarding volunteer experience. \nThis is open for all volunteers over 18! \nWhat to Expect:\n\nHigh Elements Training – Challenge yourself with adventure-based activities designed to build confidence and teamwork.\nIn-Depth Role Training – Develop leadership skills specific to roles like Junior Coordinator\, Roomie\, Reccie\, and Senior Room Leader.\nWorking Bee – Give back by helping maintain and improve camp facilities.\nSocial Activities – Meet fellow volunteers\, enjoy team-building exercises\, and relax in a supportive environment.\nWater Adventures – Dive into fun with Snorkelling\, Kayaking\, and beach activities.\nVolunteer Appreciation – Your contributions are invaluable\, and we’ll celebrate your commitment with special recognition and gratitude.\nChildren with additional needs training- Learning invaluable skills to enable you to ensure your providing the best care to participants with a range of neuropsychological disorders.\n\nThis weekend is all about learning\, connecting\, and having fun\, ensuring every volunteer is well-prepared and excited for the journey ahead. \n  \nSIGN UP TODAY!!  \n  \n 
URL:https://staging.theportseacamp.com.au/event/volunteer-training-weekend/
LOCATION:The Portsea Camp\, 3704 Point Nepean Rd\, Portsea\, VIC\, 3944
CATEGORIES:Community,Holiday & Weekend Camps
ATTACH;FMTTYPE=image/jpeg:https://staging.theportseacamp.com.au/wp-content/uploads/2025/02/DSC_0465-1-scaled.jpg
END:VEVENT
END:VCALENDAR