BEGIN:VCALENDAR
VERSION:2.0
PRODID:-//The Portsea Camp - ECPv6.15.11//NONSGML v1.0//EN
CALSCALE:GREGORIAN
METHOD:PUBLISH
X-WR-CALNAME:The Portsea Camp
X-ORIGINAL-URL:https://staging.theportseacamp.com.au
X-WR-CALDESC:Events for The Portsea Camp
REFRESH-INTERVAL;VALUE=DURATION:PT1H
X-Robots-Tag:noindex
X-PUBLISHED-TTL:PT1H
BEGIN:VTIMEZONE
TZID:Australia/Melbourne
BEGIN:STANDARD
TZOFFSETFROM:+1100
TZOFFSETTO:+1000
TZNAME:AEST
DTSTART:20240406T160000
END:STANDARD
BEGIN:DAYLIGHT
TZOFFSETFROM:+1000
TZOFFSETTO:+1100
TZNAME:AEDT
DTSTART:20241005T160000
END:DAYLIGHT
BEGIN:STANDARD
TZOFFSETFROM:+1100
TZOFFSETTO:+1000
TZNAME:AEST
DTSTART:20250405T160000
END:STANDARD
BEGIN:DAYLIGHT
TZOFFSETFROM:+1000
TZOFFSETTO:+1100
TZNAME:AEDT
DTSTART:20251004T160000
END:DAYLIGHT
BEGIN:STANDARD
TZOFFSETFROM:+1100
TZOFFSETTO:+1000
TZNAME:AEST
DTSTART:20260404T160000
END:STANDARD
BEGIN:DAYLIGHT
TZOFFSETFROM:+1000
TZOFFSETTO:+1100
TZNAME:AEDT
DTSTART:20261003T160000
END:DAYLIGHT
END:VTIMEZONE
BEGIN:VEVENT
DTSTART;TZID=Australia/Melbourne:20250929T120000
DTEND;TZID=Australia/Melbourne:20251003T120000
DTSTAMP:20260423T085224
CREATED:20250207T032222Z
LAST-MODIFIED:20250311T034836Z
UID:3710-1759147200-1759492800@staging.theportseacamp.com.au
SUMMARY:8-12 Years September Adventure Camp
DESCRIPTION:Join Us for an Unforgettable Spring Adventure!\n5 Days of Sunshine\, Fun\, and Adventure!\nOnly $750 – Includes all meals\, activities\, and accommodation in a stunning beachside location. \nDates:\n\nDrop Off: Monday\, 29th September\, 12 pm (Parent/Carer Drop Off)\nPick Up: Friday\, 3rd October\, 12 pm (Parent/Carer Pick Up)\n\nTicket Options:\n\n1 Day: $150 – Perfect for first-timers or kids who may feel uncertain about staying overnight. A great way to introduce them to the camp experience.\n3 Days: $500 – Ideal for kids who have attended a camp or two but aren’t quite ready for the full five days. This option provides a balance of adventure and comfort.\n5 Days: $750 – Designed for the seasoned adventurer eager to dive into a full week of activities and fun.\n\nPlease note: This pricing is for drop-off only. The Portsea Camp is unable to provide transport. \nActivities:\nEmbark on a thrilling spring adventure with a wide range of activities designed to inspire\, challenge\, and entertain. From conquering the giant swing and soaring down the flying fox to navigating the high ropes and exploring nature walks\, there’s something for everyone. \nEnjoy water activities like kayaking and snorkeling\, where kids can explore the underwater world and develop new skills. Our arts and crafts sessions offer a peaceful escape for creativity and mindfulness. Evening events like our disco and concert will keep the fun going\, ensuring each day is packed with excitement and joy. \nWhat They’ll Gain:\n\nResilience – Learn to overcome challenges through adventure activities.\nConfidence – Conquer fears with high-element activities like the giant swing and high ropes.\nMindfulness – Relax and express creativity through crafting activities.\nConnection – Make new friends and build social skills through teamwork and shared experiences.\nNature Appreciation – Enjoy the beautiful outdoors just steps from the beach.\nSkill Development – Develop coordination and confidence with water activities like kayaking and snorkeling.\n\nAges:\nSuitable for ages 8-12 (Year Levels 3-6). \nImportant to Note:\nAt The Portsea Camp\, we strive to ensure every child has a great experience. If your child has additional needs\, please discuss these with us before booking. We require a pre-screening questionnaire to be filled out and our additional needs policy to be reviewed to assess our ability to support your child’s needs. \nOur staff are trained to handle a range of behaviors\, but they are not specialists in certain conditions. Children with high behavioral needs may not be a good fit for our camp. If your child requires a higher level of supervision than our standard 1:10 ratio\, please contact us to discuss options\, including the possibility of bringing a personal carer. Additionally\, children who have displayed aggressive or inappropriate behavior at home or school may not be suitable for our camp environment. \nFor more information or to discuss your child’s needs\, please contact us at 5984 2680 or mad@theportseacamp.com.au. \nPayment:\nAll payments are processed securely using Stripe as the payment processor. \n\nDon’t miss out on this incredible opportunity to give your child a spring to remember! Sign up today and let them experience the joy\, growth\, and adventure that only The Portsea Camp can offer. \n  \nMaking a Difference (MaD) Scholarships:\nAt The Portsea Camp\, we believe every child deserves a chance to experience the joy\, adventure\, and growth that camp brings\, and our Making a Difference (MaD) Scholarships help make that possible. These scholarships provide full or partial funding for kids who may not otherwise be able to attend\, thanks to a blend of business revenue\, community fundraising\, and family contributions. \nHow Scholarships Are Funded\nHere’s how we make it happen:\nBusiness Revenue:\nIncome from our school and community camp programs helps keep the camp running\, and any profit goes straight to funding camp spots for kids. \nFundraising and Donations:\nGenerous donations from fundraising events\, local supporters\, businesses\, and community champions play a major role in covering costs. \nFamily Co-Contribution:\nThe program is based on a “pay what you can” model. The more support a family needs\, the more we cover\, ensuring that funding is provided based on individual family circumstances. \nHow Many Scholarships We Can Award? \nThe number of fully and partially funded places we can offer each year depends on several factors\, including: \n1. How much profit The Portsea Camp School & Community camp business has made\, which can be returned to the charitable purpose of the organisation. \n2. How much we have raised through donations\, sponsorships\, and other fundraising efforts. \n3. The mix of family needs and resources available for each camp.\nScholarship Costs & Family Contributions. \nA week of camp normally costs $990 (inclusive of GST)\, but we automatically reduce this to $750 with a base subsidy of $240 funded by The Portsea Camp for every child attending one of our 5-day programs. From there\, families make a co-contribution based on the scholarship awarded: \n1. Full Scholarship:\nNo cost to the family\, thanks to donations and sponsors covering the full amount. \n2. Partial Scholarship:\n$100 family contribution\, with the rest covered by donations and sponsors. \n3. Sliding Scale Scholarship:\n$200 family contribution\, with the remaining balance funded by our generous donors and supporters. \n4. Full Fee Paying:\nFamilies who are not applying for a scholarship can choose to self-fund or use their NDIS/Active Kids Vouchers. Families who fully self-fund can register and pay directly through The Portsea Camp website. Payment plans are also available—contact our team for more information. \nCommunity Support Makes a Difference!\nRegional hubs across Victoria organise fundraising events to support local families. Funds raised in each region are used to help children from those communities attend camp. Make sure to include your postcode on the application form so we can direct support appropriately. \nYour time and detailed responses help us create a safe\, fun\, and inclusive environment for all campers. Together\, we can ensure that every child has the opportunity to thrive at The Portsea Camp! 🙂 \nAPPLY FOR A SCHOLARSHIP HERE
URL:https://staging.theportseacamp.com.au/event/8-12-years-september-adventure-camp/
LOCATION:The Portsea Camp\, 3704 Point Nepean Rd\, Portsea\, VIC\, 3944
CATEGORIES:Holiday & Weekend Camps
ATTACH;FMTTYPE=image/jpeg:https://staging.theportseacamp.com.au/wp-content/uploads/2025/02/472786993_2808202852693880_4404866900000512214_n.jpg
END:VEVENT
END:VCALENDAR